BEGIN:VCALENDAR
VERSION:2.0
PRODID:-//wp-events-plugin.com//7.0.4//EN
BEGIN:VEVENT
UID:222@gaiety.in
DTSTART:20250205T043000Z
DTEND:20250205T113000Z
DTSTAMP:20250214T054954Z
URL:https://gaiety.in/app/events/%e0%a4%ad%e0%a4%be%e0%a4%b7%e0%a4%be-%e0%
 a4%b8%e0%a4%82%e0%a4%b8%e0%a5%8d%e0%a4%95%e0%a5%83%e0%a4%a4%e0%a4%bf-%e0%a
 4%b5%e0%a4%bf%e0%a4%ad%e0%a4%be%e0%a4%97-%e0%a4%a6%e0%a5%8d%e0%a4%b5%e0%a4
 %be/
SUMMARY:भाषा संस्कृति विभाग द्वा
 रा राज्य स्तरीय लोक नृत्य प्
 रतियोगिता का आयोजन
DESCRIPTION:✨🎭 You're Invited! 🎭✨\n🎉 राज्य स्त
 रीय लोक नृत्य प्रतियोगिता 🎉
 \nभाषा एवं संस्कृति विभाग द्
 वारा आयोजित राज्य स्तरीय लो
 क नृत्य प्रतियोगिता में आप आ
 मंत्रित है। समृद्ध लोक संस्
 कृति और रंगारंग प्रस्तुतिय
 ों का आनंद लें!
ATTACH;FMTTYPE=image/jpeg:https://i0.wp.com/gaiety.in/app/wp-content/uploa
 ds/2025/02/DSC06719-scaled-e1738579466176.jpg?fit=472%2C411&ssl=1
CATEGORIES:Activity @ Multipurpose Hall
LOCATION:Multipurpose Hall\, Multipurpose Hall - Gaiety Heritage Cultural C
 omplex Shimla\, Shimla\, India
X-APPLE-STRUCTURED-LOCATION;VALUE=URI;X-ADDRESS=Multipurpose Hall - Gaiety 
 Heritage Cultural Complex Shimla\, Shimla\, India;X-APPLE-RADIUS=100;X-TIT
 LE=Multipurpose Hall:geo:0,0
END:VEVENT
END:VCALENDAR