BEGIN:VCALENDAR
VERSION:2.0
PRODID:-//wp-events-plugin.com//7.0.4//EN
BEGIN:VEVENT
UID:343@gaiety.in
DTSTART:20250905T053000Z
DTEND:20250907T123000Z
DTSTAMP:20251006T102029Z
URL:https://gaiety.in/app/events/11th-international-film-festival-by-himal
 ayan-velocity-kullu-hp/
SUMMARY:11th International Film Festival by Himalayan Velocity Kullu HP
DESCRIPTION:आधिकारिक सूचना:- हिमाचल 
 प्रदेश में लगातार हो रही भार
 ी वर्षा के कारण हिमालयन वेलो
 सिटी\, कुल्लू (हिमाचल प्रदेश) 
 द्वारा आयोजित 11वां अंतर्राष
 ्ट्रीय फ़िल्म महोत्सव के अं
 तर्गत 05 से 07 सितंबर 2025 तक निर्
 धारित सभी कार्यक्रम एवं गति
 विधियाँ रद्द की जाती हैं।
ATTACH;FMTTYPE=image/jpeg:https://i0.wp.com/gaiety.in/app/wp-content/uploa
 ds/2025/02/IFA-SHort-Films-e1740467018266.jpeg?fit=500%2C500&ssl=1
CATEGORIES:Activity @ Conference Hall,Activity @ Multipurpose
 Hall,Activity @ Old Theatre
LOCATION:Multipurpose Hall\, Multipurpose Hall - Gaiety Heritage Cultural C
 omplex Shimla\, Shimla\, India
X-APPLE-STRUCTURED-LOCATION;VALUE=URI;X-ADDRESS=Multipurpose Hall - Gaiety 
 Heritage Cultural Complex Shimla\, Shimla\, India;X-APPLE-RADIUS=100;X-TIT
 LE=Multipurpose Hall:geo:0,0
END:VEVENT
END:VCALENDAR