BEGIN:VCALENDAR
VERSION:2.0
PRODID:-//wp-events-plugin.com//7.0.4//EN
BEGIN:VEVENT
UID:386@gaiety.in
DTSTART:20251111T043000Z
DTEND:20251112T113000Z
DTSTAMP:20251127T125829Z
URL:https://gaiety.in/app/events/annual-function-by-dayanand-public-school
 -shimla/
SUMMARY:Annual Function by Dayanand Public School Shimla
DESCRIPTION:🎉 Annual Function 2025 🎭\nOrganized by Dayanand Public Sc
 hool\, Shimla\n\n📅 Date: 11th & 12th November 2025\n📍 Venue: Multi-P
 urpose Hall\, Gaiety Theatre\, Shimla\n🕙 Time: 10:00 AM to 5:00 PM\n
 📞 Contact: 98168-79161\n\nJoin us for a celebration of talent\, creativ
 ity\, and joy! 🌟
ATTACH;FMTTYPE=image/jpeg:https://i0.wp.com/gaiety.in/app/wp-content/uploa
 ds/2024/10/1-2-e1728020519904.jpeg?fit=1224%2C720&ssl=1
CATEGORIES:Activity @ Multipurpose Hall
LOCATION:Multipurpose Hall\, Multipurpose Hall - Gaiety Heritage Cultural C
 omplex Shimla\, Shimla\, India
X-APPLE-STRUCTURED-LOCATION;VALUE=URI;X-ADDRESS=Multipurpose Hall - Gaiety 
 Heritage Cultural Complex Shimla\, Shimla\, India;X-APPLE-RADIUS=100;X-TIT
 LE=Multipurpose Hall:geo:0,0
END:VEVENT
END:VCALENDAR