BEGIN:VCALENDAR
VERSION:2.0
PRODID:-//wp-events-plugin.com//7.0.4//EN
BEGIN:VEVENT
UID:324@gaiety.in
DTSTART:20251014T043000Z
DTEND:20251014T113000Z
DTSTAMP:20251110T055122Z
URL:https://gaiety.in/app/events/annual-function-by-euro-kids-new-shimla/
SUMMARY:Annual Function by Euro Kids New Shimla
DESCRIPTION:🎉 Annual Function 2025 – A Celebration of Joy & Talent! 
 🎭\nEuroKids School\, New Shimla cordially invites you to its Annual Fun
 ction\, a vibrant showcase of our students’ creativity\, confidence\, an
 d achievements.\n\n📅 Date: Tuesday\, 14th October 2025\n🕙 Time: 10:0
 0 AM to 05:00 PM\n📍 Venue: Multi-Purpose Hall\, Gaiety Theatre\, Shimla
 \n\n✨ Event Highlights:\n\nColourful cultural performances\n\nSkits\, da
 nces\, and musical acts by our little stars\n\nAnnual awards and prize dis
 tribution\n\nArt & activity exhibition\n\nSpecial addresses by guests and 
 educators\n\n🎓 We warmly welcome all parents\, guardians\, and well-wis
 hers to be a part of this joyful celebration and support our young learner
 s.\n\nLet’s make it a day to remember together!
ATTACH;FMTTYPE=image/jpeg:https://i0.wp.com/gaiety.in/app/wp-content/uploa
 ds/2024/09/happy-cute-little-kids-boy-and-girl-study-with-teacher-illustra
 tions-of-cheerful-children-s-school-life-vector.jpg?fit=549%2C400&ssl=1
CATEGORIES:Activity @ Old Theatre
LOCATION:Old Gothic Theater\, Old Gothic Theater-Gaiety Heritage Cultural C
 omplex Shimla\, Shimla\, India
X-APPLE-STRUCTURED-LOCATION;VALUE=URI;X-ADDRESS=Old Gothic Theater-Gaiety H
 eritage Cultural Complex Shimla\, Shimla\, India;X-APPLE-RADIUS=100;X-TITL
 E=Old Gothic Theater:geo:0,0
END:VEVENT
END:VCALENDAR