BEGIN:VCALENDAR
VERSION:2.0
PRODID:-//wp-events-plugin.com//7.0.4//EN
BEGIN:VEVENT
UID:335@gaiety.in
DTSTART:20250921T053000Z
DTEND:20250921T113000Z
DTSTAMP:20251006T102251Z
URL:https://gaiety.in/app/events/annual-function-by-jcb-public-school-shim
 la/
SUMMARY:Annual function by JCB Public School Shimla
DESCRIPTION:
ATTACH;FMTTYPE=image/jpeg:https://i0.wp.com/gaiety.in/app/wp-content/uploa
 ds/2025/03/mp_hall.jpg?fit=1320%2C800&ssl=1
CATEGORIES:Activity @ Multipurpose Hall
LOCATION:Multipurpose Hall\, Multipurpose Hall - Gaiety Heritage Cultural C
 omplex Shimla\, Shimla\, India
X-APPLE-STRUCTURED-LOCATION;VALUE=URI;X-ADDRESS=Multipurpose Hall - Gaiety 
 Heritage Cultural Complex Shimla\, Shimla\, India;X-APPLE-RADIUS=100;X-TIT
 LE=Multipurpose Hall:geo:0,0
END:VEVENT
END:VCALENDAR