BEGIN:VCALENDAR
VERSION:2.0
PRODID:-//wp-events-plugin.com//7.0.4//EN
BEGIN:VEVENT
UID:417@gaiety.in
DTSTART:20260115T043000Z
DTEND:20260115T113000Z
DTSTAMP:20260212T060234Z
URL:https://gaiety.in/app/events/annual-function-by-kufri-chail-mundaghat-
 koti-shimla-hp/
SUMMARY:Annual Function by Kufri Chail Mundaghat Koti Shimla HP
DESCRIPTION:You are cordially invited to the Annual Function of Kufri – C
 hail – Mundaghat – Koti\, Shimla (H.P.).
ATTACH;FMTTYPE=image/jpeg:https://i0.wp.com/gaiety.in/app/wp-content/uploa
 ds/2025/01/DALL%C2%B7E-2025-01-20-12.49.39-A-vibrant-banner-for-a-Students
 -Welfare-Association-program-to-be-held-at-Gaiety-Theatre-Shimla.-The-desi
 gn-features-a-lively-and-modern-theme-with--e1737358357638.webp?fit=500%2C
 500&ssl=1
CATEGORIES:Activity @ Multipurpose Hall
LOCATION:Multipurpose Hall\, Multipurpose Hall - Gaiety Heritage Cultural C
 omplex Shimla\, Shimla\, India
X-APPLE-STRUCTURED-LOCATION;VALUE=URI;X-ADDRESS=Multipurpose Hall - Gaiety 
 Heritage Cultural Complex Shimla\, Shimla\, India;X-APPLE-RADIUS=100;X-TIT
 LE=Multipurpose Hall:geo:0,0
END:VEVENT
END:VCALENDAR