BEGIN:VCALENDAR
VERSION:2.0
PRODID:-//wp-events-plugin.com//7.0.4//EN
BEGIN:VEVENT
UID:341@gaiety.in
DTSTART:20251005T053000Z
DTEND:20251005T113000Z
DTSTAMP:20251006T102605Z
URL:https://gaiety.in/app/events/annual-function-by-little-gems-khalini/
SUMMARY:Annual function by Little Gems Khalini
DESCRIPTION:
ATTACH;FMTTYPE=image/jpeg:https://i0.wp.com/gaiety.in/app/wp-content/uploa
 ds/2024/09/happy-cute-little-kids-boy-and-girl-study-with-teacher-illustra
 tions-of-cheerful-children-s-school-life-vector.jpg?fit=549%2C400&ssl=1
CATEGORIES:Activity @ Multipurpose Hall
LOCATION:Multipurpose Hall\, Multipurpose Hall - Gaiety Heritage Cultural C
 omplex Shimla\, Shimla\, India
X-APPLE-STRUCTURED-LOCATION;VALUE=URI;X-ADDRESS=Multipurpose Hall - Gaiety 
 Heritage Cultural Complex Shimla\, Shimla\, India;X-APPLE-RADIUS=100;X-TIT
 LE=Multipurpose Hall:geo:0,0
END:VEVENT
END:VCALENDAR