BEGIN:VCALENDAR
VERSION:2.0
PRODID:-//wp-events-plugin.com//7.0.4//EN
BEGIN:VEVENT
UID:418@gaiety.in
DTSTART:20260116T043000Z
DTEND:20260116T113000Z
DTSTAMP:20260212T060242Z
URL:https://gaiety.in/app/events/annual-function-by-narkanda-shilaru-stude
 nts-association-shimla-hp/
SUMMARY:Annual Function by Narkanda Shilaru Students Association Shimla HP
DESCRIPTION:The Narkanda Shilaru Students Association\, Shimla (H.P.) warml
 y invites you to its Annual Function
ATTACH;FMTTYPE=image/jpeg:https://i0.wp.com/gaiety.in/app/wp-content/uploa
 ds/2025/01/DALL%C2%B7E-2025-01-20-12.49.14-A-vibrant-banner-for-a-Students
 -Welfare-Association-program-to-be-held-at-Gaiety-Theatre-Shimla.-The-desi
 gn-features-a-lively-and-modern-theme-with-a.webp?fit=1792%2C1024&ssl=1
CATEGORIES:Activity @ Multipurpose Hall
LOCATION:Multipurpose Hall\, Multipurpose Hall - Gaiety Heritage Cultural C
 omplex Shimla\, Shimla\, India
X-APPLE-STRUCTURED-LOCATION;VALUE=URI;X-ADDRESS=Multipurpose Hall - Gaiety 
 Heritage Cultural Complex Shimla\, Shimla\, India;X-APPLE-RADIUS=100;X-TIT
 LE=Multipurpose Hall:geo:0,0
END:VEVENT
END:VCALENDAR