BEGIN:VCALENDAR
VERSION:2.0
PRODID:-//wp-events-plugin.com//7.0.4//EN
BEGIN:VEVENT
UID:248@gaiety.in
DTSTART:20250620T053000Z
DTEND:20250622T140000Z
DTSTAMP:20250702T101531Z
URL:https://gaiety.in/app/events/anukriti-rangmandal-kanpur-up/
SUMMARY:Anukriti Rangmandal Kanpur UP
DESCRIPTION:🎭 Anukriti Rangmandal\, Kanpurin collaboration withLanguage 
 &amp\; Culture Department\, Himachal Pradesh\, Shimlapresents\n🌟 Gaiety
  Theatre Festival 🌟📍 Gaiety Theatre\, Mall Road\, Shimla🗓️ 20th
  to 22nd June 2025🕕 6:00 PM onwards\nJoin us for three evenings of powe
 rful Hindi theatre performances:\n🔹 20th June (Friday)🎭 “Purush”
 Writer: Jaywant Dalvi | Hindi Adaptation: Sudhakar KarakareDirector: Nisha
  VermaPresented by: Anukriti Rangmandal\, Kanpur\n🔹 21st June (Saturday
 )🎭 “Koi Ek Raat”Writer: Ashok SinghDirector: Dr. Omendra KumarPrese
 nted by: Anukriti Rangmandal\, Kanpur\n🔹 22nd June (Sunday)🎭 “Pala
 t”Writer: Padmashri Narendra Kohli | Hindi Adaptation: Vikas Parik &amp\
 ; Palat TeamDirector: Gagan MishraPresented by: Yuryusha\, Jaipur\n🎟️
  For Entry Passes/Donation Cards\, Contact:Shri Naresh\, K-Mica\, Shimla (
 H.P.)📞 8894877121\n🟨 Special Support by:Ministry of Culture\, Govern
 ment of India\n📞 Contact: Dr. Omendra KumarFounder Secretary\, Anukriti
 9415485582 | 7007527803
ATTACH;FMTTYPE=image/jpeg:https://i0.wp.com/gaiety.in/app/wp-content/uploa
 ds/2025/03/anukriti-2.jpg?fit=1600%2C873&ssl=1
CATEGORIES:Activity @ Old Theatre
LOCATION:Old Gothic Theater\, Old Gothic Theater-Gaiety Heritage Cultural C
 omplex Shimla\, Shimla\, India
X-APPLE-STRUCTURED-LOCATION;VALUE=URI;X-ADDRESS=Old Gothic Theater-Gaiety H
 eritage Cultural Complex Shimla\, Shimla\, India;X-APPLE-RADIUS=100;X-TITL
 E=Old Gothic Theater:geo:0,0
END:VEVENT
END:VCALENDAR