BEGIN:VCALENDAR
VERSION:2.0
PRODID:-//wp-events-plugin.com//7.0.4//EN
BEGIN:VEVENT
UID:167@gaiety.in
DTSTART:20241222T043000Z
DTEND:20241222T113000Z
DTSTAMP:20250114T112632Z
URL:https://gaiety.in/app/events/art-of-living-shimla/
SUMMARY:Art of Living Shimla
DESCRIPTION:𝗘𝗻𝘁𝗿𝘆 𝗧𝗵𝗿𝗼𝘂𝗴𝗵 🎫𝗣𝗮
 𝘀𝘀𝗲𝘀 𝗢𝗻𝗹𝘆\nReserve Your 💺Seats Today :\nhttp://
 vvki-dsy.org/Shimla
ATTACH;FMTTYPE=image/jpeg:https://i0.wp.com/gaiety.in/app/wp-content/uploa
 ds/2024/11/Image_Editor-e1733376678844.png?fit=500%2C500&ssl=1
CATEGORIES:Activity @ Multipurpose Hall
LOCATION:Multipurpose Hall\, Multipurpose Hall - Gaiety Heritage Cultural C
 omplex Shimla\, Shimla\, India
X-APPLE-STRUCTURED-LOCATION;VALUE=URI;X-ADDRESS=Multipurpose Hall - Gaiety 
 Heritage Cultural Complex Shimla\, Shimla\, India;X-APPLE-RADIUS=100;X-TIT
 LE=Multipurpose Hall:geo:0,0
END:VEVENT
END:VCALENDAR