BEGIN:VCALENDAR
VERSION:2.0
PRODID:-//wp-events-plugin.com//7.0.4//EN
BEGIN:VEVENT
UID:176@gaiety.in
DTSTART:20250115T043000Z
DTEND:20250123T140000Z
DTSTAMP:20250203T085343Z
URL:https://gaiety.in/app/events/book-exhibition-by-bookchor/
SUMMARY:Book Fair by Bookchor
DESCRIPTION:Book Fair Announcement\, All are cordially invited! 
ATTACH;FMTTYPE=image/jpeg:https://i0.wp.com/gaiety.in/app/wp-content/uploa
 ds/2024/12/WhatsApp-Image-2024-12-11-at-16.56.03_9aad8942-e1734504016666.j
 pg?fit=500%2C500&ssl=1
CATEGORIES:Activity @ Multipurpose Hall
LOCATION:Multipurpose Hall\, Multipurpose Hall - Gaiety Heritage Cultural C
 omplex Shimla\, Shimla\, India
X-APPLE-STRUCTURED-LOCATION;VALUE=URI;X-ADDRESS=Multipurpose Hall - Gaiety 
 Heritage Cultural Complex Shimla\, Shimla\, India;X-APPLE-RADIUS=100;X-TIT
 LE=Multipurpose Hall:geo:0,0
END:VEVENT
END:VCALENDAR