BEGIN:VCALENDAR
VERSION:2.0
PRODID:-//wp-events-plugin.com//7.0.4//EN
BEGIN:VEVENT
UID:451@gaiety.in
DTSTART:20260402T043000Z
DTEND:20260405T140000Z
DTSTAMP:20260317T072446Z
URL:https://gaiety.in/app/events/book-fair-by-book-chor-lock-the-box/
SUMMARY:Book Fair by Book Chor (Lock the Box)
DESCRIPTION:All are cordially invited\, The iconic Gaiety Theatre is once a
 gain turning into a paradise for book lovers as Book Chor brings back its 
 much-awaited Book Fair!
ATTACH;FMTTYPE=image/jpeg:https://i0.wp.com/gaiety.in/app/wp-content/uploa
 ds/2026/03/WhatsApp-Image-2026-03-16-at-11.50.26-AM-e1773727719813.jpeg?fi
 t=800%2C793&ssl=1
CATEGORIES:Activity @ Teveran Hall
LOCATION:Tavern Hall\, Tavern Halll - Gaiety Heritage Cultural Complex\, Sh
 imla\, India
X-APPLE-STRUCTURED-LOCATION;VALUE=URI;X-ADDRESS=Tavern Halll - Gaiety Herit
 age Cultural Complex\, Shimla\, India;X-APPLE-RADIUS=100;X-TITLE=Tavern Ha
 ll:geo:0,0
END:VEVENT
END:VCALENDAR