BEGIN:VCALENDAR
VERSION:2.0
PRODID:-//wp-events-plugin.com//7.0.4//EN
BEGIN:VEVENT
UID:306@gaiety.in
DTSTART:20250829T053000Z
DTEND:20250901T140000Z
DTSTAMP:20250903T070258Z
URL:https://gaiety.in/app/events/book-fair-by-book-chor/
SUMMARY:Book fair by Book Chor
DESCRIPTION: ANNOUNCEMENT: LOCK THE BOX BOOK FAIR RETURNS TO SHIMLA! \n\nCa
 lling all book lovers\, avid readers\, and collectors!\nThe much-awaited L
 ock The Box Book Fair by Bookchor is coming back to the iconic Gaiety Thea
 tre\, Shimla\, bringing you a treasure trove of books from every genre ima
 ginable.\n\n Dates: 29th August to 1st September\, 2025\n Timings: 9:00 AM
  to 8:00 PM\n Venue: Gaiety Theatre\, The Ridge\, Shimla
ATTACH;FMTTYPE=image/jpeg:https://i0.wp.com/gaiety.in/app/wp-content/uploa
 ds/2025/07/bookchore.jpg?fit=1600%2C1495&ssl=1
CATEGORIES:Activity @ Teveran Hall
LOCATION:Tavern Hall\, Tavern Halll - Gaiety Heritage Cultural Complex\, Sh
 imla\, India
X-APPLE-STRUCTURED-LOCATION;VALUE=URI;X-ADDRESS=Tavern Halll - Gaiety Herit
 age Cultural Complex\, Shimla\, India;X-APPLE-RADIUS=100;X-TITLE=Tavern Ha
 ll:geo:0,0
END:VEVENT
END:VCALENDAR