BEGIN:VCALENDAR
VERSION:2.0
PRODID:-//wp-events-plugin.com//7.0.4//EN
BEGIN:VEVENT
UID:275@gaiety.in
DTSTART:20250625T043000Z
DTEND:20250706T140000Z
DTSTAMP:20250709T045142Z
URL:https://gaiety.in/app/events/book-fair-by-yashika-enterprises/
SUMMARY:Book Fair by Yashika Enterprises
DESCRIPTION:All are cordially invited  
ATTACH;FMTTYPE=image/jpeg:https://i0.wp.com/gaiety.in/app/wp-content/uploa
 ds/2024/12/istockphoto-1132192911-612x612-1-e1734602026788.jpg?fit=424%2C4
 24&ssl=1
CATEGORIES:Activity @ Multipurpose Hall
LOCATION:Multipurpose Hall\, Multipurpose Hall - Gaiety Heritage Cultural C
 omplex Shimla\, Shimla\, India
X-APPLE-STRUCTURED-LOCATION;VALUE=URI;X-ADDRESS=Multipurpose Hall - Gaiety 
 Heritage Cultural Complex Shimla\, Shimla\, India;X-APPLE-RADIUS=100;X-TIT
 LE=Multipurpose Hall:geo:0,0
END:VEVENT
END:VCALENDAR