BEGIN:VCALENDAR
VERSION:2.0
PRODID:-//wp-events-plugin.com//7.0.4//EN
BEGIN:VEVENT
UID:231@gaiety.in
DTSTART:20250408T053000Z
DTEND:20250413T140000Z
DTSTAMP:20250515T082819Z
URL:https://gaiety.in/app/events/book-fair-exhibition/
SUMMARY:Book Fair Exhibition
DESCRIPTION:Book Fair Announcement\, All are cordially invited!
ATTACH;FMTTYPE=image/jpeg:https://i0.wp.com/gaiety.in/app/wp-content/uploa
 ds/2025/02/WhatsApp-Image-2024-12-11-at-16.56.03_9aad8942-e1740395891234.j
 pg?fit=500%2C467&ssl=1
CATEGORIES:Activity @ Teveran Hall
LOCATION:Tavern Hall\, Tavern Halll - Gaiety Heritage Cultural Complex\, Sh
 imla\, India
X-APPLE-STRUCTURED-LOCATION;VALUE=URI;X-ADDRESS=Tavern Halll - Gaiety Herit
 age Cultural Complex\, Shimla\, India;X-APPLE-RADIUS=100;X-TITLE=Tavern Ha
 ll:geo:0,0
END:VEVENT
END:VCALENDAR