BEGIN:VCALENDAR
VERSION:2.0
PRODID:-//wp-events-plugin.com//7.0.4//EN
BEGIN:VEVENT
UID:168@gaiety.in
DTSTART:20241221T043000Z
DTEND:20241221T113000Z
DTSTAMP:20250114T112609Z
URL:https://gaiety.in/app/events/book-releases-and-discussion-event-hosted
 -by-keekli-charitable-trust/
SUMMARY:Book Releases and Discussion event hosted by Keekli Charitable Trus
 t
DESCRIPTION:*Dear All\,*\n\nYou are cordially invited to the *Book Releases
  and Discussion event hosted by Keekli Charitable Trust.*\n\n *Event Deta
 ils:*\n\n📅 *Date:* December 21\, 2024\n\n📍 *Venue:* MP Hall\, Gaiety
  Theatre\, Shimla\n\n🕦 *Time:* Please be seated by 10:45 AM\n\n \n\n*P
 rogramme Schedule*\n\n11:00 am – Inauguration\n\n11:20 am – Reading by
  Senior Writers\n\n11:35 am – Book Discussion: Look Before You Leap\n\n1
 2:20 pm – Book Discussion: It’s Time to Rhyme\n\n*01:00 pm to 02:30 pm
  – Lunch*\n\n2:30 pm – Review by Prof Meenakshi F Paul\n\n2:45 pm – 
 Reading by Young Writers\n\n3:00 pm – Book Release &amp\; Address by Sho
 bha Tharoor Srinivasan\n\n \n\n*Featured Books*\n\nBlooming Quills - 51 S
 hort Stories by Children\n\nEdited by Sonia Dogra &amp\; Vandana Bhagra\n\
 n \n\nबचपन के रंग\, बड़ों के संग - 31 
 बाल कहानियाँ\n\nसंपादक - वंदना
  भागड़ा \n\n[gallery type='google' view='photos' album_id='AK66s-
 ZK6DuZoQcyiqOj_4YV_dOm3PzQjemuXCuPUCDPDvHJHsUWGP3NPUZ1Uk-5UnOWllPJgzi1' ma
 in_size='600' layout='random']\n\nLook Before You Leap &amp\; It’s Time 
 to Rhyme\n\nWritten by Shobha Tharoor Srinivasan\n\n We are honoured to h
 ave Ms. Shobha Tharoor Srinivasan as our Chief Guest. Please join us as we
  celebrate literature\, storytelling\, and creativity.\n\n&nbsp\;\n\n *Fo
 r more information and registration:*\n\nhttps://www.facebook.com/share/14
 R5TkfxdP/\n\nhttps://www.facebook.com/share/p/18MG4ee7Qx/\n\n&nbsp\;\n\nWe
 bsite: http://www.gaiety.in\n\nEmail: managergaiety@gmail.com\n\nPhone: +9
 1-78763-12487\, 0177 2650-173\, 098171 15363\n\n&nbsp\;\n\n *Kindly confi
 rm your attendance:*\n\n📞 RSVP: 9816148001 / 9816633917\n\n✉️ Email
 : secy.keekiltrust@gmail.com\n\nLooking forward to your gracious presence!
 \n\n&nbsp\;\n\n *Warm regards\,*\n\nGaiety Dramatic Society\n\nGaiety The
 atre Shimla
ATTACH;FMTTYPE=image/jpeg:https://i0.wp.com/gaiety.in/app/wp-content/uploa
 ds/2024/12/1-1-e1734502183721.jpeg?fit=500%2C518&ssl=1
CATEGORIES:Activity @ Multipurpose Hall
LOCATION:Multipurpose Hall\, Multipurpose Hall - Gaiety Heritage Cultural C
 omplex Shimla\, Shimla\, India
X-APPLE-STRUCTURED-LOCATION;VALUE=URI;X-ADDRESS=Multipurpose Hall - Gaiety 
 Heritage Cultural Complex Shimla\, Shimla\, India;X-APPLE-RADIUS=100;X-TIT
 LE=Multipurpose Hall:geo:0,0
END:VEVENT
END:VCALENDAR