BEGIN:VCALENDAR
VERSION:2.0
PRODID:-//wp-events-plugin.com//7.0.4//EN
BEGIN:VEVENT
UID:366@gaiety.in
DTSTART:20251001T043000Z
DTEND:20251001T113000Z
DTSTAMP:20251006T102513Z
URL:https://gaiety.in/app/events/celebrating-bsnl-day/
SUMMARY:Celebrating BSNL Day
DESCRIPTION:📡✨ Invitation ✨📡\n\nBharat Sanchar Nigam Limited (BSN
 L)\, Shimla\nis pleased to invite you to a special programme on the occasi
 on of BSNL Day.
ATTACH;FMTTYPE=image/jpeg:https://i0.wp.com/gaiety.in/app/wp-content/uploa
 ds/2025/09/bsnl-network-maintenance-services-outsource.jpg?fit=1000%2C563&
 ssl=1
CATEGORIES:Activity @ Multipurpose Hall
LOCATION:Multipurpose Hall\, Multipurpose Hall - Gaiety Heritage Cultural C
 omplex Shimla\, Shimla\, India
X-APPLE-STRUCTURED-LOCATION;VALUE=URI;X-ADDRESS=Multipurpose Hall - Gaiety 
 Heritage Cultural Complex Shimla\, Shimla\, India;X-APPLE-RADIUS=100;X-TIT
 LE=Multipurpose Hall:geo:0,0
END:VEVENT
END:VCALENDAR