BEGIN:VCALENDAR
VERSION:2.0
PRODID:-//wp-events-plugin.com//7.0.4//EN
BEGIN:VEVENT
UID:393@gaiety.in
DTSTART:20251203T053000Z
DTEND:20251203T083000Z
DTSTAMP:20251208T092948Z
URL:https://gaiety.in/app/events/centre-for-human-rights-disability-studie
 s-chrds-hpnlu-shimla/
SUMMARY:Centre for Human Rights & Disability Studies (CHRDS)\, HPNLU Shimla
DESCRIPTION:You are cordially invited to attend this special event being or
 ganized at the historic Gaiety Amphitheatre\, Shimla.
ATTACH;FMTTYPE=image/jpeg:https://i0.wp.com/gaiety.in/app/wp-content/uploa
 ds/2025/12/ChatGPT-Image-Dec-2-2025-12_56_23-PM.png?fit=1024%2C860&ssl=1
CATEGORIES:Amphitheatre Gaiety Complex
LOCATION:Amphitheatre Complex\, Gaiety Theatre \, Shimla\, India\, 171001\,
  India
X-APPLE-STRUCTURED-LOCATION;VALUE=URI;X-ADDRESS=Gaiety Theatre \, Shimla\, 
 India\, 171001\, India;X-APPLE-RADIUS=100;X-TITLE=Amphitheatre Complex:geo
 :0,0
END:VEVENT
END:VCALENDAR