BEGIN:VCALENDAR
VERSION:2.0
PRODID:-//wp-events-plugin.com//7.0.4//EN
BEGIN:VEVENT
UID:334@gaiety.in
DTSTART:20250920T103000Z
DTEND:20250920T133000Z
DTSTAMP:20251006T102222Z
URL:https://gaiety.in/app/events/classical-event-by-lal-sa/
SUMMARY:Classical Event by LAL"SA"
DESCRIPTION:🎶✨ Invitation to a Musical Evening ✨🎶\n\nLAL’SA –
  The Desire for Music\ncordially invites you to an enchanting evening of I
 ndian Classical Music & Dance\, celebrating the rich tradition of rhythm\,
  melody\, and expression.
ATTACH;FMTTYPE=image/jpeg:https://i0.wp.com/gaiety.in/app/wp-content/uploa
 ds/2025/08/1.jpg?fit=1080%2C1094&ssl=1
CATEGORIES:Activity @ Old Theatre
LOCATION:Old Gothic Theater\, Old Gothic Theater-Gaiety Heritage Cultural C
 omplex Shimla\, Shimla\, India
X-APPLE-STRUCTURED-LOCATION;VALUE=URI;X-ADDRESS=Old Gothic Theater-Gaiety H
 eritage Cultural Complex Shimla\, Shimla\, India;X-APPLE-RADIUS=100;X-TITL
 E=Old Gothic Theater:geo:0,0
END:VEVENT
END:VCALENDAR