BEGIN:VCALENDAR
VERSION:2.0
PRODID:-//wp-events-plugin.com//7.0.4//EN
BEGIN:VEVENT
UID:372@gaiety.in
DTSTART:20251014T043000Z
DTEND:20251014T120000Z
DTSTAMP:20251110T055115Z
URL:https://gaiety.in/app/events/department-of-revenue-disaster-management
 -cell-dmc-hp-secretariat/
SUMMARY:Department of Revenue-Disaster Management Cell (DMC)\, HP\, Secreta
 riat
DESCRIPTION:
ATTACH;FMTTYPE=image/jpeg:https://i0.wp.com/gaiety.in/app/wp-content/uploa
 ds/2025/10/ViewFTPFile.png?fit=536%2C535&ssl=1
CATEGORIES:Activity @ Multipurpose Hall
LOCATION:Multipurpose Hall\, Multipurpose Hall - Gaiety Heritage Cultural C
 omplex Shimla\, Shimla\, India
X-APPLE-STRUCTURED-LOCATION;VALUE=URI;X-ADDRESS=Multipurpose Hall - Gaiety 
 Heritage Cultural Complex Shimla\, Shimla\, India;X-APPLE-RADIUS=100;X-TIT
 LE=Multipurpose Hall:geo:0,0
END:VEVENT
END:VCALENDAR