BEGIN:VCALENDAR
VERSION:2.0
PRODID:-//wp-events-plugin.com//7.0.4//EN
BEGIN:VEVENT
UID:213@gaiety.in
DTSTART:20250131T043000Z
DTEND:20250131T113000Z
DTSTAMP:20250203T085503Z
URL:https://gaiety.in/app/events/deputy-commissioner-cum-chairman-ddma-shi
 mla/
SUMMARY:Deputy Commissioner-Cum-Chairman (DDMA) Shimla
DESCRIPTION:🎨✨ You’re Invited! ✨🎨\n🌟 Road Safety Awareness C
 ampaign – 31 January\, 2025 🌟
ATTACH;FMTTYPE=image/jpeg:https://i0.wp.com/gaiety.in/app/wp-content/uploa
 ds/2025/01/road-safety-tips-poster-banner_24886-1688-1-e1737363540281.jpg?
 fit=500%2C500&ssl=1
CATEGORIES:Activity @ Multipurpose Hall
LOCATION:Multipurpose Hall\, Multipurpose Hall - Gaiety Heritage Cultural C
 omplex Shimla\, Shimla\, India
X-APPLE-STRUCTURED-LOCATION;VALUE=URI;X-ADDRESS=Multipurpose Hall - Gaiety 
 Heritage Cultural Complex Shimla\, Shimla\, India;X-APPLE-RADIUS=100;X-TIT
 LE=Multipurpose Hall:geo:0,0
END:VEVENT
END:VCALENDAR