BEGIN:VCALENDAR
VERSION:2.0
PRODID:-//wp-events-plugin.com//7.0.4//EN
BEGIN:VEVENT
UID:268@gaiety.in
DTSTART:20250623T113000Z
DTEND:20250624T140000Z
DTSTAMP:20250702T101619Z
URL:https://gaiety.in/app/events/dev-bhoomi-national-theatre-festival-by-r
 amgmanch-theatre-group-rajouri-jk/
SUMMARY:Dev Bhoomi National Theatre Festival by Ramgmanch Theatre Group\, R
 ajouri (J&K)
DESCRIPTION:🎭✨ देव भूमि – National Theatre Festival 
 ✨🎭
ATTACH;FMTTYPE=image/jpeg:https://i0.wp.com/gaiety.in/app/wp-content/uploa
 ds/2025/06/Jammu-Theatre-scaled-e1750143004104.jpg?fit=453%2C452&ssl=1
CATEGORIES:Activity @ Old Theatre
LOCATION:Old Gothic Theater\, Old Gothic Theater-Gaiety Heritage Cultural C
 omplex Shimla\, Shimla\, India
X-APPLE-STRUCTURED-LOCATION;VALUE=URI;X-ADDRESS=Old Gothic Theater-Gaiety H
 eritage Cultural Complex Shimla\, Shimla\, India;X-APPLE-RADIUS=100;X-TITL
 E=Old Gothic Theater:geo:0,0
END:VEVENT
END:VCALENDAR