BEGIN:VCALENDAR
VERSION:2.0
PRODID:-//wp-events-plugin.com//7.0.4//EN
BEGIN:VEVENT
UID:440@gaiety.in
DTSTART:20260221T053000Z
DTEND:20260222T113000Z
DTSTAMP:20260404T084040Z
URL:https://gaiety.in/app/events/dev-bhumi-kala-manch/
SUMMARY:Dev Bhumi Kala Manch
DESCRIPTION:
ATTACH;FMTTYPE=image/jpeg:https://i0.wp.com/gaiety.in/app/wp-content/uploa
 ds/2025/03/gaiety.webp?fit=1200%2C675&ssl=1
CATEGORIES:Activity @ Old Theatre
LOCATION:Old Gothic Theater\, Old Gothic Theater-Gaiety Heritage Cultural C
 omplex Shimla\, Shimla\, India
X-APPLE-STRUCTURED-LOCATION;VALUE=URI;X-ADDRESS=Old Gothic Theater-Gaiety H
 eritage Cultural Complex Shimla\, Shimla\, India;X-APPLE-RADIUS=100;X-TITL
 E=Old Gothic Theater:geo:0,0
END:VEVENT
END:VCALENDAR