BEGIN:VCALENDAR
VERSION:2.0
PRODID:-//wp-events-plugin.com//7.0.4//EN
BEGIN:VEVENT
UID:397@gaiety.in
DTSTART:20251213T043000Z
DTEND:20251213T113000Z
DTSTAMP:20251230T060748Z
URL:https://gaiety.in/app/events/directorate-of-forensic-sciences-junga-sh
 imla-hp/
SUMMARY:Directorate of Forensic & Sciences Junga Shimla HP
DESCRIPTION:Contact us for more information: 94181-42960
ATTACH;FMTTYPE=image/jpeg:https://i0.wp.com/gaiety.in/app/wp-content/uploa
 ds/2025/12/ViewFTPFile.png?fit=226%2C223&ssl=1
CATEGORIES:Activity @ Multipurpose Hall
LOCATION:Multipurpose Hall\, Multipurpose Hall - Gaiety Heritage Cultural C
 omplex Shimla\, Shimla\, India
X-APPLE-STRUCTURED-LOCATION;VALUE=URI;X-ADDRESS=Multipurpose Hall - Gaiety 
 Heritage Cultural Complex Shimla\, Shimla\, India;X-APPLE-RADIUS=100;X-TIT
 LE=Multipurpose Hall:geo:0,0
END:VEVENT
END:VCALENDAR