BEGIN:VCALENDAR
VERSION:2.0
PRODID:-//wp-events-plugin.com//7.0.4//EN
BEGIN:VEVENT
UID:304@gaiety.in
DTSTART:20250705T043000Z
DTEND:20250705T113000Z
DTSTAMP:20250709T045211Z
URL:https://gaiety.in/app/events/divya-himachal-presents-himachal-ki-awaz-
 2025/
SUMMARY:DIVYA HIMACHAL PRESENTS - HIMACHAL KI AWAZ 2025
DESCRIPTION:🎤 DIVYA HIMACHAL PRESENTS🌟 HIMACHAL KI AWAZ 2025 🌟अ
 ब हिमाचल गाएगा\nJoin us for the BIGGEST Talent Hun
 t of the year!\n📍 Shimla Auditions📅 Date: 5th July\, 2025🕙 Time: 
 10:00 AM🏛️ Venue: Gaiety Theater\, Rehearsals Hall\, Shimla\n🎶 Cal
 ling all Senior &amp\; Junior singers:\n\n\n 	\nJunior Category: 8 to 16 y
 ears\n\n 	\nSenior Category: 17 years &amp\; above\n\n\n✨ Win Cash Prize
 s and get a chance to appear in a Music Album with Raag Studios!🎧 Judge
 d by Gopal Sharma &amp\; Rajendra Acharya (Celebrity Judges)\n🔗 Powered
  by: Aarni University📞 For queries\, contact:📱 98160-77722 | 78310-6
 1229☎️ 01892-264713\nCome and let your voice be the next Himachal ki A
 waaz!Follow us: [@Himachalkiawaaz] on social media
ATTACH;FMTTYPE=image/jpeg:https://i0.wp.com/gaiety.in/app/wp-content/uploa
 ds/2025/07/Divya-Himachal-July-2025.jpg?fit=1080%2C1014&ssl=1
CATEGORIES:Activity @ Rehearsal Hall
LOCATION:Rehearsal Hall\, Rehearsal Hall-Gaiety Heritage Cultural Complex S
 himla\, Shimla\, India\, 171001\, India
X-APPLE-STRUCTURED-LOCATION;VALUE=URI;X-ADDRESS=Rehearsal Hall-Gaiety Herit
 age Cultural Complex Shimla\, Shimla\, India\, 171001\, India;X-APPLE-RADI
 US=100;X-TITLE=Rehearsal Hall:geo:0,0
END:VEVENT
END:VCALENDAR