BEGIN:VCALENDAR
VERSION:2.0
PRODID:-//wp-events-plugin.com//7.0.4//EN
BEGIN:VEVENT
UID:77@gaiety.in
DTSTART:20240807T053000Z
DTEND:20240807T133000Z
DTSTAMP:20240813T121135Z
URL:https://gaiety.in/app/events/divya-himachal/
SUMMARY:Divya Himachal
DESCRIPTION:Divya Himachal will organize prize distribution for scholar stu
 dents.\n\nPlease contact us for more details-(Mr. Raman Rana- 78310-61229\
 , 70183-42919)\n\n[gallery type='google' view='photos' album_id='AK66s-bRr
 0SuNnmBv9LIMelZoDZ_RSnpMN-6H6e0Y1koJKxZTBpYUb9XbBJb_f-0ElC1trPm-Q3G' crop_
 thumb='crop' main_size='1600' thumb_size='150' layout='square']
ATTACH;FMTTYPE=image/jpeg:https://i0.wp.com/gaiety.in/app/wp-content/uploa
 ds/2024/07/1-e1722498149578.jpg?fit=500%2C563&ssl=1
CATEGORIES:Activity @ Multipurpose Hall
LOCATION:Multipurpose Hall\, Multipurpose Hall - Gaiety Heritage Cultural C
 omplex Shimla\, Shimla\, India
X-APPLE-STRUCTURED-LOCATION;VALUE=URI;X-ADDRESS=Multipurpose Hall - Gaiety 
 Heritage Cultural Complex Shimla\, Shimla\, India;X-APPLE-RADIUS=100;X-TIT
 LE=Multipurpose Hall:geo:0,0
END:VEVENT
END:VCALENDAR