BEGIN:VCALENDAR
VERSION:2.0
PRODID:-//wp-events-plugin.com//7.0.4//EN
BEGIN:VEVENT
UID:242@gaiety.in
DTSTART:20250326T043000Z
DTEND:20250327T113000Z
DTSTAMP:20250515T082623Z
URL:https://gaiety.in/app/events/dlo-shimla/
SUMMARY:DLO Shimla
DESCRIPTION:the District Language Officer (DLO) often organizes grading for
  Himachali singers. This grading helps categorize artists based on their s
 inging skills\, contribution to Himachali folk and traditional music\, and
  overall performance.\n\nGrading System for Himachali Singers\nThe classif
 ication usually follows a pattern similar to All India Radio’s grading s
 ystem for folk and classical artists. The singers are graded as:\n\n\n 	\n
 A-Grade Singers – Highly skilled\, experienced\, and recognized at the s
 tate/national level. They often perform on platforms like Akashvani\, Door
 darshan\, and government-organized cultural events.\n\n 	\nB-Grade Singers
  – Talented but slightly less experienced than A-grade artists. They are
  often emerging folk singers with regional recognition.\n\n 	\nC-Grade Sin
 gers – Beginners or local artists who are in the early stages of their m
 usical careers and need more exposure.\n\n\nPurpose of Grading\n\n 	\nHelp
 s in recognizing and promoting Himachali folk artists.\n\n 	\nProvides opp
 ortunities for participation in government-sponsored programs.\n\n 	\nEnco
 urages young artists to pursue Himachali folk music professionally.\n\n 	\
 nEnsures selection of skilled singers for events like state fairs\, folk f
 estivals\, and radio programs.\n\n\nWould you like to know about any recen
 t grading events or specific singers who have been graded?
ATTACH;FMTTYPE=image/jpeg:https://i0.wp.com/gaiety.in/app/wp-content/uploa
 ds/2025/03/mp_hall.jpg?fit=1320%2C800&ssl=1
CATEGORIES:Activity @ Multipurpose Hall
LOCATION:Multipurpose Hall\, Multipurpose Hall - Gaiety Heritage Cultural C
 omplex Shimla\, Shimla\, India
X-APPLE-STRUCTURED-LOCATION;VALUE=URI;X-ADDRESS=Multipurpose Hall - Gaiety 
 Heritage Cultural Complex Shimla\, Shimla\, India;X-APPLE-RADIUS=100;X-TIT
 LE=Multipurpose Hall:geo:0,0
END:VEVENT
END:VCALENDAR