BEGIN:VCALENDAR
VERSION:2.0
PRODID:-//wp-events-plugin.com//7.0.4//EN
BEGIN:VEVENT
UID:315@gaiety.in
DTSTART:20250712T083000Z
DTEND:20250712T113000Z
DTSTAMP:20250714T061853Z
URL:https://gaiety.in/app/events/emotions-globe-art-theatre-3/
SUMMARY:Emotions Globe Art Theatre
DESCRIPTION:📜 You Are Cordially Invited! 🎭
ATTACH;FMTTYPE=image/jpeg:https://gaiety.in/app/wp-content/uploads/2025/07
 /Conference-PDF_-Horizontal-pdf.jpg
CATEGORIES:Activity @ Conference Hall
LOCATION:Conference Hall\, Conference Hall - Gaiety Heritage Cultural Compl
 ex\, Shimla\, India
X-APPLE-STRUCTURED-LOCATION;VALUE=URI;X-ADDRESS=Conference Hall - Gaiety He
 ritage Cultural Complex\, Shimla\, India;X-APPLE-RADIUS=100;X-TITLE=Confer
 ence Hall:geo:0,0
END:VEVENT
END:VCALENDAR