BEGIN:VCALENDAR
VERSION:2.0
PRODID:-//wp-events-plugin.com//7.0.4//EN
BEGIN:VEVENT
UID:158@gaiety.in
DTSTART:20241130T043000Z
DTEND:20241130T103000Z
DTSTAMP:20241218T062744Z
URL:https://gaiety.in/app/events/euro-kids-school-sanjauli/
SUMMARY:Euro Kids School Sanjauli
DESCRIPTION:
ATTACH;FMTTYPE=image/jpeg:https://i0.wp.com/gaiety.in/app/wp-content/uploa
 ds/2024/09/360_F_118061553_IQRyhlpiSct9C2RiUcAy3Ml6Jgf1apfj.jpg?fit=480%2C
 360&ssl=1
CATEGORIES:Activity @ Multipurpose Hall
LOCATION:Multipurpose Hall\, Multipurpose Hall - Gaiety Heritage Cultural C
 omplex Shimla\, Shimla\, India
X-APPLE-STRUCTURED-LOCATION;VALUE=URI;X-ADDRESS=Multipurpose Hall - Gaiety 
 Heritage Cultural Complex Shimla\, Shimla\, India;X-APPLE-RADIUS=100;X-TIT
 LE=Multipurpose Hall:geo:0,0
END:VEVENT
END:VCALENDAR