BEGIN:VCALENDAR
VERSION:2.0
PRODID:-//wp-events-plugin.com//7.0.4//EN
BEGIN:VEVENT
UID:320@gaiety.in
DTSTART:20260123T053000Z
DTEND:20260131T130000Z
DTSTAMP:20260212T060254Z
URL:https://gaiety.in/app/events/exhibition-by-bijleshwar-h-l-h-c/
SUMMARY:Exhibition by Bijleshwar H/L & H/C
DESCRIPTION:
ATTACH;FMTTYPE=image/jpeg:https://i0.wp.com/gaiety.in/app/wp-content/uploa
 ds/2025/01/WhatsApp-Image-2025-01-16-at-3.52.10-PM-1-scaled-e1737621418452
 .jpeg?fit=500%2C500&ssl=1
CATEGORIES:Activity @ Teveran Hall
LOCATION:Tavern Hall\, Tavern Halll - Gaiety Heritage Cultural Complex\, Sh
 imla\, India
X-APPLE-STRUCTURED-LOCATION;VALUE=URI;X-ADDRESS=Tavern Halll - Gaiety Herit
 age Cultural Complex\, Shimla\, India;X-APPLE-RADIUS=100;X-TITLE=Tavern Ha
 ll:geo:0,0
END:VEVENT
END:VCALENDAR