BEGIN:VCALENDAR
VERSION:2.0
PRODID:-//wp-events-plugin.com//7.0.4//EN
BEGIN:VEVENT
UID:311@gaiety.in
DTSTART:20250804T053000Z
DTEND:20250810T140000Z
DTSTAMP:20250820T055721Z
URL:https://gaiety.in/app/events/exhibition-by-hp-state-handicraft-handloo
 m-corp-ltd-2/
SUMMARY:Exhibition by HP State Handicraft & Handloom Corp. Ltd.
DESCRIPTION: Exhibition by H.P. State Handicrafts & Handloom Corporation Lt
 d. \n📍 Gaiety Theatre\, Shimla\n📅 4th August to 10th August 2025\n
 🕚 11:00 AM to 7:30 PM\n\nExplore the rich heritage of Himachali craftsm
 anship!\nA curated display and sale of traditional handlooms\, handicrafts
 \, and local artistry.\n\nAll are welcome!
ATTACH;FMTTYPE=image/jpeg:https://i0.wp.com/gaiety.in/app/wp-content/uploa
 ds/2025/07/il_fullxfull.5894388067_ap26.png?fit=%2C&ssl=1
CATEGORIES:Activity @ Teveran Hall
LOCATION:Tavern Hall\, Tavern Halll - Gaiety Heritage Cultural Complex\, Sh
 imla\, India
X-APPLE-STRUCTURED-LOCATION;VALUE=URI;X-ADDRESS=Tavern Halll - Gaiety Herit
 age Cultural Complex\, Shimla\, India;X-APPLE-RADIUS=100;X-TITLE=Tavern Ha
 ll:geo:0,0
END:VEVENT
END:VCALENDAR