BEGIN:VCALENDAR
VERSION:2.0
PRODID:-//wp-events-plugin.com//7.0.4//EN
BEGIN:VEVENT
UID:310@gaiety.in
DTSTART:20250806T053000Z
DTEND:20250807T140000Z
DTSTAMP:20250820T060837Z
URL:https://gaiety.in/app/events/exhibition-by-hp-state-handicraft-handloo
 m-corp-ltd/
SUMMARY:Exhibition by HP State Handicraft & Handloom Corp. Ltd.
DESCRIPTION: Exhibition by H.P. State Handicrafts & Handloom Corporation Lt
 d. \n\n Gaiety Theatre\, Shimla\n 6th August to 7th August 2025\n 11:00 AM
  to 7:30 PM\n\nExplore the rich heritage of Himachali craftsmanship!\nA cu
 rated display and sale of traditional handlooms\, handicrafts\, and local 
 artistry.\n\nAll are welcome!
ATTACH;FMTTYPE=image/jpeg:https://i0.wp.com/gaiety.in/app/wp-content/uploa
 ds/2025/07/Red-Doru-Kullu-Shawl-004.png?fit=1080%2C1080&ssl=1
CATEGORIES:Activity @ Multipurpose Hall
LOCATION:Multipurpose Hall\, Multipurpose Hall - Gaiety Heritage Cultural C
 omplex Shimla\, Shimla\, India
X-APPLE-STRUCTURED-LOCATION;VALUE=URI;X-ADDRESS=Multipurpose Hall - Gaiety 
 Heritage Cultural Complex Shimla\, Shimla\, India;X-APPLE-RADIUS=100;X-TIT
 LE=Multipurpose Hall:geo:0,0
END:VEVENT
END:VCALENDAR