BEGIN:VCALENDAR
VERSION:2.0
PRODID:-//wp-events-plugin.com//7.0.4//EN
BEGIN:VEVENT
UID:419@gaiety.in
DTSTART:20260211T053000Z
DTEND:20260214T130000Z
DTSTAMP:20260317T042823Z
URL:https://gaiety.in/app/events/exhibition-by-reshma/
SUMMARY:Exhibition by Reshma
DESCRIPTION:Exhibition by Reshma\nAll are Cordially invited\n📅 Date: 11 
 February 2026⏰ Time: 11:00 AM – 6:30 PM📍 Venue: Tavern Hall\nYou ar
 e warmly invited to join us for a day of culture\, talent and celebration.
 \n📞 Contact: 88948-20839
ATTACH;FMTTYPE=image/jpeg:https://i0.wp.com/gaiety.in/app/wp-content/uploa
 ds/2024/01/G41.jpg?fit=600%2C401&ssl=1
CATEGORIES:Activity @ Teveran Hall
LOCATION:Tavern Hall\, Tavern Halll - Gaiety Heritage Cultural Complex\, Sh
 imla\, India
X-APPLE-STRUCTURED-LOCATION;VALUE=URI;X-ADDRESS=Tavern Halll - Gaiety Herit
 age Cultural Complex\, Shimla\, India;X-APPLE-RADIUS=100;X-TITLE=Tavern Ha
 ll:geo:0,0
END:VEVENT
END:VCALENDAR