BEGIN:VCALENDAR
VERSION:2.0
PRODID:-//wp-events-plugin.com//7.0.4//EN
BEGIN:VEVENT
UID:288@gaiety.in
DTSTART:20251006T053000Z
DTEND:20251012T133000Z
DTSTAMP:20251110T054945Z
URL:https://gaiety.in/app/events/exhibition-by-sandook-by-jigyasa/
SUMMARY:Exhibition by Sandook by Jigyasa
DESCRIPTION:
ATTACH;FMTTYPE=image/jpeg:https://i0.wp.com/gaiety.in/app/wp-content/uploa
 ds/2025/01/WhatsApp-Image-2025-02-13-at-4.47.52-PM-2.jpeg?fit=922%2C1053&s
 sl=1
CATEGORIES:Activity @ Teveran Hall
LOCATION:Tavern Hall\, Tavern Halll - Gaiety Heritage Cultural Complex\, Sh
 imla\, India
X-APPLE-STRUCTURED-LOCATION;VALUE=URI;X-ADDRESS=Tavern Halll - Gaiety Herit
 age Cultural Complex\, Shimla\, India;X-APPLE-RADIUS=100;X-TITLE=Tavern Ha
 ll:geo:0,0
END:VEVENT
END:VCALENDAR