BEGIN:VCALENDAR
VERSION:2.0
PRODID:-//wp-events-plugin.com//7.0.4//EN
BEGIN:VEVENT
UID:421@gaiety.in
DTSTART:20260227T053000Z
DTEND:20260305T130000Z
DTSTAMP:20260317T042927Z
URL:https://gaiety.in/app/events/exhibition-by-the-great-hadimba-h-l-h-c-s
 ociety/
SUMMARY:Exhibition by The Great Hadimba H/L & H/C Society
DESCRIPTION:You are warmly invited to the Exhibition\nOrganized by The Grea
 t Hadimba H/L & H/C Society
ATTACH;FMTTYPE=image/jpeg:https://i0.wp.com/gaiety.in/app/wp-content/uploa
 ds/2025/07/1-6-scaled.jpg?fit=2560%2C1155&ssl=1
CATEGORIES:Activity @ Teveran Hall
LOCATION:Tavern Hall\, Tavern Halll - Gaiety Heritage Cultural Complex\, Sh
 imla\, India
X-APPLE-STRUCTURED-LOCATION;VALUE=URI;X-ADDRESS=Tavern Halll - Gaiety Herit
 age Cultural Complex\, Shimla\, India;X-APPLE-RADIUS=100;X-TITLE=Tavern Ha
 ll:geo:0,0
END:VEVENT
END:VCALENDAR