BEGIN:VCALENDAR
VERSION:2.0
PRODID:-//wp-events-plugin.com//7.0.4//EN
BEGIN:VEVENT
UID:420@gaiety.in
DTSTART:20260216T053000Z
DTEND:20260225T130000Z
DTSTAMP:20260317T042840Z
URL:https://gaiety.in/app/events/exhibition-by-the-rajeshwari-handloom-soc
 iety/
SUMMARY:Exhibition by The Rajeshwari Handloom Society
DESCRIPTION:You are warmly invited to the Exhibition\nOrganized by The Raje
 shwari Handloom Society
ATTACH;FMTTYPE=image/jpeg:https://i0.wp.com/gaiety.in/app/wp-content/uploa
 ds/2025/01/handicraft-shawl-shop-mega-festival-dussehra-festivals-dhalpur-
 ground-kullu-himachal-pradesh-india-asia-2WBHAB4-e1737008776564.jpg?fit=50
 0%2C499&ssl=1
CATEGORIES:Activity @ Teveran Hall
LOCATION:Tavern Hall\, Tavern Halll - Gaiety Heritage Cultural Complex\, Sh
 imla\, India
X-APPLE-STRUCTURED-LOCATION;VALUE=URI;X-ADDRESS=Tavern Halll - Gaiety Herit
 age Cultural Complex\, Shimla\, India;X-APPLE-RADIUS=100;X-TITLE=Tavern Ha
 ll:geo:0,0
END:VEVENT
END:VCALENDAR