BEGIN:VCALENDAR
VERSION:2.0
PRODID:-//wp-events-plugin.com//7.0.4//EN
BEGIN:VEVENT
UID:423@gaiety.in
DTSTART:20260325T053000Z
DTEND:20260331T130000Z
DTSTAMP:20260404T084300Z
URL:https://gaiety.in/app/events/exhibition-by-the-tripura-naggar-h-l-h-c-
 kullu-hp/
SUMMARY:Exhibition by The Tripura Naggar H/L & H/C Kullu HP
DESCRIPTION:You are cordially invited to the Exhibition\nOrganized by The T
 ripura Naggar H/L & H/C\, Kullu (H.P.)
ATTACH;FMTTYPE=image/jpeg:https://i0.wp.com/gaiety.in/app/wp-content/uploa
 ds/2025/07/1-6-scaled.jpg?fit=2560%2C1155&ssl=1
CATEGORIES:Activity @ Teveran Hall
LOCATION:Tavern Hall\, Tavern Halll - Gaiety Heritage Cultural Complex\, Sh
 imla\, India
X-APPLE-STRUCTURED-LOCATION;VALUE=URI;X-ADDRESS=Tavern Halll - Gaiety Herit
 age Cultural Complex\, Shimla\, India;X-APPLE-RADIUS=100;X-TITLE=Tavern Ha
 ll:geo:0,0
END:VEVENT
END:VCALENDAR