BEGIN:VCALENDAR
VERSION:2.0
PRODID:-//wp-events-plugin.com//7.0.4//EN
BEGIN:VEVENT
UID:428@gaiety.in
DTSTART:20260102T043000Z
DTEND:20260111T113000Z
DTSTAMP:20260206T105954Z
URL:https://gaiety.in/app/events/exhibition-by-trifed-h-l-h-c/
SUMMARY:Exhibition by Trifed (H/L & H/C)
DESCRIPTION:
ATTACH;FMTTYPE=image/jpeg:https://i0.wp.com/gaiety.in/app/wp-content/uploa
 ds/2025/01/handicraft-shawl-shop-mega-festival-dussehra-festivals-dhalpur-
 ground-kullu-himachal-pradesh-india-asia-2WBHAB4-e1737008776564.jpg?fit=50
 0%2C499&ssl=1
CATEGORIES:Activity @ Multipurpose Hall
LOCATION:Multipurpose Hall\, Multipurpose Hall - Gaiety Heritage Cultural C
 omplex Shimla\, Shimla\, India
X-APPLE-STRUCTURED-LOCATION;VALUE=URI;X-ADDRESS=Multipurpose Hall - Gaiety 
 Heritage Cultural Complex Shimla\, Shimla\, India;X-APPLE-RADIUS=100;X-TIT
 LE=Multipurpose Hall:geo:0,0
END:VEVENT
END:VCALENDAR