BEGIN:VCALENDAR
VERSION:2.0
PRODID:-//wp-events-plugin.com//7.0.4//EN
BEGIN:VEVENT
UID:214@gaiety.in
DTSTART:20250717T053000Z
DTEND:20250723T140000Z
DTSTAMP:20250728T093907Z
URL:https://gaiety.in/app/events/exhibition-by-trifed-hanloom-handicraft/
SUMMARY:Exhibition by Trifed Hanloom & Handicraft
DESCRIPTION:🎨✨ You’re Invited! ✨🎨\nJoin us for an unforgettable
  Painting Exhibition showcasing stunning artworks by talented artists.
ATTACH;FMTTYPE=image/jpeg:https://i0.wp.com/gaiety.in/app/wp-content/uploa
 ds/2025/01/1-9-scaled.jpeg?fit=2560%2C1144&ssl=1
CATEGORIES:Activity @ Teveran Hall
LOCATION:Tavern Hall\, Tavern Halll - Gaiety Heritage Cultural Complex\, Sh
 imla\, India
X-APPLE-STRUCTURED-LOCATION;VALUE=URI;X-ADDRESS=Tavern Halll - Gaiety Herit
 age Cultural Complex\, Shimla\, India;X-APPLE-RADIUS=100;X-TITLE=Tavern Ha
 ll:geo:0,0
END:VEVENT
END:VCALENDAR