BEGIN:VCALENDAR
VERSION:2.0
PRODID:-//wp-events-plugin.com//7.0.4//EN
BEGIN:VEVENT
UID:186@gaiety.in
DTSTART:20250617T053000Z
DTEND:20250622T143000Z
DTSTAMP:20250702T101509Z
URL:https://gaiety.in/app/events/exhibition-by-yogoda-satsanga-dhyan-kendr
 a-shimla/
SUMMARY:Exhibition by Yogoda Satsanga Dhyan Kendra Shimla
DESCRIPTION:
ATTACH;FMTTYPE=image/jpeg:https://i0.wp.com/gaiety.in/app/wp-content/uploa
 ds/2024/08/YSS-10-e1736410990283.jpeg?fit=500%2C415&ssl=1
CATEGORIES:Activity @ Teveran Hall
LOCATION:Tavern Hall\, Tavern Halll - Gaiety Heritage Cultural Complex\, Sh
 imla\, India
X-APPLE-STRUCTURED-LOCATION;VALUE=URI;X-ADDRESS=Tavern Halll - Gaiety Herit
 age Cultural Complex\, Shimla\, India;X-APPLE-RADIUS=100;X-TITLE=Tavern Ha
 ll:geo:0,0
END:VEVENT
END:VCALENDAR