BEGIN:VCALENDAR
VERSION:2.0
PRODID:-//wp-events-plugin.com//7.0.4//EN
BEGIN:VEVENT
UID:376@gaiety.in
DTSTART:20251024T043000Z
DTEND:20251102T140000Z
DTSTAMP:20251110T055232Z
URL:https://gaiety.in/app/events/exhibiton-by-manali-artisan-welfare-feder
 ation-h-l-h-c/
SUMMARY:Exhibiton by Manali Artisan Welfare Federation H/L & H/C
DESCRIPTION:
ATTACH;FMTTYPE=image/jpeg:https://i0.wp.com/gaiety.in/app/wp-content/uploa
 ds/2025/07/1-6-scaled.jpg?fit=2560%2C1155&ssl=1
CATEGORIES:Activity @ Multipurpose Hall
LOCATION:Multipurpose Hall\, Multipurpose Hall - Gaiety Heritage Cultural C
 omplex Shimla\, Shimla\, India
X-APPLE-STRUCTURED-LOCATION;VALUE=URI;X-ADDRESS=Multipurpose Hall - Gaiety 
 Heritage Cultural Complex Shimla\, Shimla\, India;X-APPLE-RADIUS=100;X-TIT
 LE=Multipurpose Hall:geo:0,0
END:VEVENT
END:VCALENDAR