BEGIN:VCALENDAR
VERSION:2.0
PRODID:-//wp-events-plugin.com//7.0.4//EN
BEGIN:VEVENT
UID:232@gaiety.in
DTSTART:20250227T073000Z
DTEND:20250227T113000Z
DTSTAMP:20250301T102350Z
URL:https://gaiety.in/app/events/film-release/
SUMMARY:Film Release by Jab We Met Clicks Academy and Studio\, Sundernagar
DESCRIPTION:SPECIAL SCREENING INVITATION 
ATTACH;FMTTYPE=image/jpeg:https://i0.wp.com/gaiety.in/app/wp-content/uploa
 ds/2025/02/WhatsApp-Image-2025-02-25-at-1.29.32-PM-e1740473273771.jpeg?fit
 =500%2C500&ssl=1
CATEGORIES:Activity @ Multipurpose Hall
LOCATION:Multipurpose Hall\, Multipurpose Hall - Gaiety Heritage Cultural C
 omplex Shimla\, Shimla\, India
X-APPLE-STRUCTURED-LOCATION;VALUE=URI;X-ADDRESS=Multipurpose Hall - Gaiety 
 Heritage Cultural Complex Shimla\, Shimla\, India;X-APPLE-RADIUS=100;X-TIT
 LE=Multipurpose Hall:geo:0,0
END:VEVENT
END:VCALENDAR