BEGIN:VCALENDAR
VERSION:2.0
PRODID:-//wp-events-plugin.com//7.0.4//EN
BEGIN:VEVENT
UID:225@gaiety.in
DTSTART:20250425T223000Z
DTEND:20250426T010000Z
DTSTAMP:20250515T083006Z
URL:https://gaiety.in/app/events/hemanth-aggarwal/
SUMMARY:Hemanth Aggarwal
DESCRIPTION:🎨✨ You’re Invited! ✨🎨\nJoin us for an unforgettable
  show from talented artists.
ATTACH;FMTTYPE=image/jpeg:https://i0.wp.com/gaiety.in/app/wp-content/uploa
 ds/2024/12/istockphoto-1132192911-612x612-1-e1734602026788.jpg?fit=424%2C4
 24&ssl=1
CATEGORIES:Activity @ Old Theatre
LOCATION:Old Gothic Theater\, Old Gothic Theater-Gaiety Heritage Cultural C
 omplex Shimla\, Shimla\, India
X-APPLE-STRUCTURED-LOCATION;VALUE=URI;X-ADDRESS=Old Gothic Theater-Gaiety H
 eritage Cultural Complex Shimla\, Shimla\, India;X-APPLE-RADIUS=100;X-TITL
 E=Old Gothic Theater:geo:0,0
END:VEVENT
END:VCALENDAR