BEGIN:VCALENDAR
VERSION:2.0
PRODID:-//wp-events-plugin.com//7.0.4//EN
BEGIN:VEVENT
UID:446@gaiety.in
DTSTART:20260310T120000Z
DTEND:20260314T133000Z
DTSTAMP:20260317T043029Z
URL:https://gaiety.in/app/events/him-sangeet-utsav-2026/
SUMMARY:Him Sangeet Utsav-2026
DESCRIPTION:A five-day Him Sangeet Utsav will be organized from 10th to 14t
 h March 2026 at Gaiety Theatre.
ATTACH;FMTTYPE=image/jpeg:https://i0.wp.com/gaiety.in/app/wp-content/uploa
 ds/2026/03/Him-Sangeet-Utsav-2026-Banner.jpeg?fit=1600%2C873&ssl=1
CATEGORIES:Activity @ Old Theatre
LOCATION:Old Gothic Theater\, Old Gothic Theater-Gaiety Heritage Cultural C
 omplex Shimla\, Shimla\, India
X-APPLE-STRUCTURED-LOCATION;VALUE=URI;X-ADDRESS=Old Gothic Theater-Gaiety H
 eritage Cultural Complex Shimla\, Shimla\, India;X-APPLE-RADIUS=100;X-TITL
 E=Old Gothic Theater:geo:0,0
END:VEVENT
END:VCALENDAR