BEGIN:VCALENDAR
VERSION:2.0
PRODID:-//wp-events-plugin.com//7.0.4//EN
BEGIN:VEVENT
UID:226@gaiety.in
DTSTART:20250222T223000Z
DTEND:20250223T003000Z
DTSTAMP:20250227T085447Z
URL:https://gaiety.in/app/events/himachali-stand-up-comedy-by-vishal-sharm
 a/
SUMMARY:Himachali Stand-Up Comedy by Vishal Sharma
DESCRIPTION:All are cordially invited! 🎭😂 Badkaji Raja Lagate - Himac
 hali Stand-Up Comedy Show! 🎤
ATTACH;FMTTYPE=image/jpeg:https://i0.wp.com/gaiety.in/app/wp-content/uploa
 ds/2025/02/IMG20250213090935-e1739441631218.jpg?fit=500%2C500&ssl=1
CATEGORIES:Activity @ Old Theatre
LOCATION:Old Gothic Theater\, Old Gothic Theater-Gaiety Heritage Cultural C
 omplex Shimla\, Shimla\, India
X-APPLE-STRUCTURED-LOCATION;VALUE=URI;X-ADDRESS=Old Gothic Theater-Gaiety H
 eritage Cultural Complex Shimla\, Shimla\, India;X-APPLE-RADIUS=100;X-TITL
 E=Old Gothic Theater:geo:0,0
END:VEVENT
END:VCALENDAR