BEGIN:VCALENDAR
VERSION:2.0
PRODID:-//wp-events-plugin.com//7.0.4//EN
BEGIN:VEVENT
UID:184@gaiety.in
DTSTART:20250206T043000Z
DTEND:20250209T113000Z
DTSTAMP:20250215T145254Z
URL:https://gaiety.in/app/events/himkara-uniyan-samiti-kaithu-jail-shimla/
SUMMARY:Himkara Uniyan Samiti\, Kaithu Jail Shimla
DESCRIPTION:Contact us for more details: 86269-90095 (Mr. Anil Kumar)
ATTACH;FMTTYPE=image/jpeg:https://i0.wp.com/gaiety.in/app/wp-content/uploa
 ds/2024/12/istockphoto-1132192911-612x612-1-e1734602026788.jpg?fit=424%2C4
 24&ssl=1
CATEGORIES:Activity @ Teveran Hall
LOCATION:Tavern Hall\, Tavern Halll - Gaiety Heritage Cultural Complex\, Sh
 imla\, India
X-APPLE-STRUCTURED-LOCATION;VALUE=URI;X-ADDRESS=Tavern Halll - Gaiety Herit
 age Cultural Complex\, Shimla\, India;X-APPLE-RADIUS=100;X-TITLE=Tavern Ha
 ll:geo:0,0
END:VEVENT
END:VCALENDAR