BEGIN:VCALENDAR
VERSION:2.0
PRODID:-//wp-events-plugin.com//7.0.4//EN
BEGIN:VEVENT
UID:331@gaiety.in
DTSTART:20250901T043000Z
DTEND:20250901T123000Z
DTSTAMP:20250903T070952Z
URL:https://gaiety.in/app/events/hindi-pakhwada-by-dlo-shimla/
SUMMARY:Hindi Pakhwada by DLO Shimla
DESCRIPTION: सूचना\n\nहिमाचल प्रदेश म
 ें लगातार हो रही भारी वर्षा 
 को ध्यान में रखते हुए हिंदी 
 पखवाड़ा  के अंतर्गत आयोजित 
 सभी कार्यक्रम रद्द किए जाते 
 हैं। यह निर्णय प्रतिभागियो
 ं की सुरक्षा और सुविधा को ध्
 यान में रखकर लिया गया है। इस
 से होने वाली किसी भी असुविधा
  के लिए हमें खेद है तथा आपके स
 हयोग के लिए आभारी हैं। पुनर्
 निर्धारित कार्यक्रम की जान
 कारी शीघ्र प्रदान की जाएगी।
ATTACH;FMTTYPE=image/jpeg:https://i0.wp.com/gaiety.in/app/wp-content/uploa
 ds/2024/12/istockphoto-1132192911-612x612-1-e1734602026788.jpg?fit=424%2C4
 24&ssl=1
CATEGORIES:Activity @ Conference Hall,Activity @ Old Theatre
LOCATION:Old Gothic Theater\, Old Gothic Theater-Gaiety Heritage Cultural C
 omplex Shimla\, Shimla\, India
X-APPLE-STRUCTURED-LOCATION;VALUE=URI;X-ADDRESS=Old Gothic Theater-Gaiety H
 eritage Cultural Complex Shimla\, Shimla\, India;X-APPLE-RADIUS=100;X-TITL
 E=Old Gothic Theater:geo:0,0
END:VEVENT
END:VCALENDAR