BEGIN:VCALENDAR
VERSION:2.0
PRODID:-//wp-events-plugin.com//7.0.4//EN
BEGIN:VEVENT
UID:344@gaiety.in
DTSTART:20250912T043000Z
DTEND:20250914T113000Z
DTSTAMP:20251006T102055Z
URL:https://gaiety.in/app/events/hindi-pakhwada-by-language-and-culture-de
 partment-hp-2/
SUMMARY:Hindi Pakhwada by Language and Culture Department HP
DESCRIPTION:
ATTACH;FMTTYPE=image/jpeg:https://i0.wp.com/gaiety.in/app/wp-content/uploa
 ds/2024/09/hindidiwaskavita2023-1694340386.jpg?fit=498%2C338&ssl=1
CATEGORIES:Activity @ Multipurpose Hall
LOCATION:Multipurpose Hall\, Multipurpose Hall - Gaiety Heritage Cultural C
 omplex Shimla\, Shimla\, India
X-APPLE-STRUCTURED-LOCATION;VALUE=URI;X-ADDRESS=Multipurpose Hall - Gaiety 
 Heritage Cultural Complex Shimla\, Shimla\, India;X-APPLE-RADIUS=100;X-TIT
 LE=Multipurpose Hall:geo:0,0
END:VEVENT
END:VCALENDAR