BEGIN:VCALENDAR
VERSION:2.0
PRODID:-//wp-events-plugin.com//7.0.4//EN
BEGIN:VEVENT
UID:346@gaiety.in
DTSTART:20250913T043000Z
DTEND:20250914T113000Z
DTSTAMP:20251006T102138Z
URL:https://gaiety.in/app/events/hindi-pakhwada-by-language-and-culture-de
 partment-hp/
SUMMARY:Hindi Pakhwada by Language and Culture Department HP
DESCRIPTION:
ATTACH;FMTTYPE=image/jpeg:https://i0.wp.com/gaiety.in/app/wp-content/uploa
 ds/2024/09/hindidiwaskavita2023-1694340386.jpg?fit=498%2C338&ssl=1
CATEGORIES:Activity @ Conference Hall
LOCATION:Conference Hall\, Conference Hall - Gaiety Heritage Cultural Compl
 ex\, Shimla\, India
X-APPLE-STRUCTURED-LOCATION;VALUE=URI;X-ADDRESS=Conference Hall - Gaiety He
 ritage Cultural Complex\, Shimla\, India;X-APPLE-RADIUS=100;X-TITLE=Confer
 ence Hall:geo:0,0
END:VEVENT
END:VCALENDAR