BEGIN:VCALENDAR
VERSION:2.0
PRODID:-//wp-events-plugin.com//7.0.4//EN
BEGIN:VEVENT
UID:227@gaiety.in
DTSTART:20250227T183000Z
DTEND:20250227T213000Z
DTSTAMP:20250301T102412Z
URL:https://gaiety.in/app/events/hp-council-for-science-technology-environ
 ment-himcoste/
SUMMARY:HP Council for Science\, Technology & Environment (HIMCOSTE)
DESCRIPTION:🌿✨HIMCOSTE Event at Gaiety Theatre\, Shimla! ✨🌿
ATTACH;FMTTYPE=image/jpeg:https://i0.wp.com/gaiety.in/app/wp-content/uploa
 ds/2025/02/WhatsApp-Image-2025-02-25-at-2.42.35-PM-e1740476091180.jpeg?fit
 =560%2C467&ssl=1
CATEGORIES:Activity @ Multipurpose Hall
LOCATION:Multipurpose Hall\, Multipurpose Hall - Gaiety Heritage Cultural C
 omplex Shimla\, Shimla\, India
X-APPLE-STRUCTURED-LOCATION;VALUE=URI;X-ADDRESS=Multipurpose Hall - Gaiety 
 Heritage Cultural Complex Shimla\, Shimla\, India;X-APPLE-RADIUS=100;X-TIT
 LE=Multipurpose Hall:geo:0,0
END:VEVENT
END:VCALENDAR